BEGIN:VCALENDAR
VERSION:2.0
PRODID:-//empoweredelleholdings.com - ECPv6.15.20//NONSGML v1.0//EN
CALSCALE:GREGORIAN
METHOD:PUBLISH
X-ORIGINAL-URL:https://empoweredelleholdings.com
X-WR-CALDESC:Events for empoweredelleholdings.com
REFRESH-INTERVAL;VALUE=DURATION:PT1H
X-Robots-Tag:noindex
X-PUBLISHED-TTL:PT1H
BEGIN:VTIMEZONE
TZID:America/New_York
BEGIN:DAYLIGHT
TZOFFSETFROM:-0500
TZOFFSETTO:-0400
TZNAME:EDT
DTSTART:20250309T070000
END:DAYLIGHT
BEGIN:STANDARD
TZOFFSETFROM:-0400
TZOFFSETTO:-0500
TZNAME:EST
DTSTART:20251102T060000
END:STANDARD
BEGIN:DAYLIGHT
TZOFFSETFROM:-0500
TZOFFSETTO:-0400
TZNAME:EDT
DTSTART:20260308T070000
END:DAYLIGHT
BEGIN:STANDARD
TZOFFSETFROM:-0400
TZOFFSETTO:-0500
TZNAME:EST
DTSTART:20261101T060000
END:STANDARD
BEGIN:DAYLIGHT
TZOFFSETFROM:-0500
TZOFFSETTO:-0400
TZNAME:EDT
DTSTART:20270314T070000
END:DAYLIGHT
BEGIN:STANDARD
TZOFFSETFROM:-0400
TZOFFSETTO:-0500
TZNAME:EST
DTSTART:20271107T060000
END:STANDARD
END:VTIMEZONE
BEGIN:VEVENT
DTSTART;TZID=America/New_York:20260301T200000
DTEND;TZID=America/New_York:20260401T210000
DTSTAMP:20260423T065335
CREATED:20260121T011234Z
LAST-MODIFIED:20260206T011336Z
UID:10698537-1772395200-1775077200@empoweredelleholdings.com
SUMMARY:The Becoming Collective
DESCRIPTION:The Becoming Collective is a  virtual guided book experience. (1st month Free)A guided reading & growth community for women building themselves\, their leadership\, and their businesses intentionally. \n\n\n\nBecause growth feels different when it’s supported. \n\n\n\nEach month includes light reading assignments\, guided reflection\, one system’s prompt\, and a community discussion via Zoom\, designed to support the woman you’re becoming. \n\n\n\nThis is not another book club.It’s a curated growth experience that supports intentional living\, confident leadership\, and aligned progress. \n\n\n\n📖 Our First Book\n\n\n\nAtomic Habits by James Clear \n\n\n\n🗓️ ScheduleStart Date: March 1\, 2026Community Discussions: Inside the Empowered’Elle Circle Facebook GroupLive Zoom Gathering:April 1\, 2026 | 8:00–9:00 PM (ET)
URL:https://empoweredelleholdings.com/event/the-becoming-circle
END:VEVENT
BEGIN:VEVENT
DTSTART;TZID=America/New_York:20260321T100000
DTEND;TZID=America/New_York:20260321T110000
DTSTAMP:20260423T065335
CREATED:20260317T054703Z
LAST-MODIFIED:20260317T055601Z
UID:10968537-1774087200-1774090800@empoweredelleholdings.com
SUMMARY:Private Financial Session For Women
DESCRIPTION:In honor of Women’s History Month\, you are invited to a private financial conversation designed for professional women and women entrepreneurs. \n\n\n\nMany women work hard\, build careers\, and run businesses and  still feel uncertain about their financial strategy.  \n\n\n\nNot because they lack ambition\, but because few of us were ever taught how to approach money with clarity and confidence. \n\n\n\nDuring this session\, a female CPA with over a decade of experience will share simple insights to help women better understand how to structure their finances and avoid common mistakes. \n\n\n\nIn this session\, we will explore: \n\n\n\n• How to begin building wealth without becoming a financial expert• The financial mistakes that keep many business owners stuck• Simple principles that create long-term financial clarity \n\n\n\nThis session is designed for women who want to grow not only in leadership and business\, but also in financial awareness and confidence. \n\n\n\n📅 March 21⏰ 10:00 AM– 📍 Live on Zoom \n\n\n\nIf you would like to attend this private financial session\, please register below to receive the Zoom link.
URL:https://empoweredelleholdings.com/event/private-financial-session-women
END:VEVENT
END:VCALENDAR